BEGIN:VCALENDAR
VERSION:2.0
PRODID:-//HAUS FÜNF - ECPv6.6.4.2//NONSGML v1.0//EN
CALSCALE:GREGORIAN
METHOD:PUBLISH
X-WR-CALNAME:HAUS FÜNF
X-ORIGINAL-URL:https://hausfuenf.at
X-WR-CALDESC:Veranstaltungen für HAUS FÜNF
REFRESH-INTERVAL;VALUE=DURATION:PT1H
X-Robots-Tag:noindex
X-PUBLISHED-TTL:PT1H
BEGIN:VTIMEZONE
TZID:UTC
BEGIN:STANDARD
TZOFFSETFROM:+0000
TZOFFSETTO:+0000
TZNAME:UTC
DTSTART:20260101T000000
END:STANDARD
END:VTIMEZONE
BEGIN:VEVENT
DTSTART;TZID=UTC:20260423T180000
DTEND;TZID=UTC:20260423T230000
DTSTAMP:20260420T134620
CREATED:20260401T084316Z
LAST-MODIFIED:20260401T084355Z
UID:2971-1776967200-1776985200@hausfuenf.at
SUMMARY:Dîner aux Chandelles
DESCRIPTION:Dîner aux Chandelles \nTauchen Sie ein in einen Abend voller Genuss\, Kerzenlicht und besonderer Momente.\nZwischen den vier Gängen aus der französischen Küche entführen ausgewählte Erzählungen Sie auf eine Reise durch Frankreich und für einen Moment fern vom Alltag – perfekt für ein romantisches Date oder ein Erlebnis in kleiner Runde. \n📆 Datum: Donnerstag\, 23. April 2026 \n🕓 ab 18:00 Uhr \n📍 HAUS FÜNF – Sterngasse\, Melk \n🎟️ € 100\,00 \n  \n Jetzt Tickets sichern
URL:https://hausfuenf.at/event/diner-aux-chandelles/
LOCATION:HAUS FÜNF\, Sterngasse 5\, Melk\, 3390
CATEGORIES:Veranstaltung
ATTACH;FMTTYPE=image/png:https://hausfuenf.at/wp-content/uploads/2026/04/Candlelight-Dinner-Facebook-Event.png
END:VEVENT
BEGIN:VEVENT
DTSTART;TZID=UTC:20260424T170000
DTEND;TZID=UTC:20260424T210000
DTSTAMP:20260420T134620
CREATED:20260401T085629Z
LAST-MODIFIED:20260401T085629Z
UID:2977-1777050000-1777064400@hausfuenf.at
SUMMARY:Melker Frühling Pasta-Workshop
DESCRIPTION:Pasta-Workshop \nTauche ein in die Welt handgemachter Pasta! Aus frischen Bio-Zutaten stellst du deinen eigenen Teig her\, formst kreative Varianten wie Tortellini od. Caramelle und zauberst köstliche\, saisonale Füllungen.\nMit Profi-Tipps\, professionellem Pasta-Equipment und deinem persönlichen Rezeptheft wird dieser vegetarische Workshop zu einem genussvollen Erlebnis voller Kreativität und echten Geschmackserlebnissen. \n📆 Datum: Freitag\, 24. April 2026 \n🕓 ab 17:00 Uhr (Dauer ca. 4 Stunden) \n📍 HAUS FÜNF – Sterngasse\, Melk \n🎟️ € 125\,00 \nAnmeldung unter:\n0664 54 19500 oder office@raviola-manufaktur.at \nInklusive: \n\nGetränkebegleitung\ngemeinsames Essen der zubereiteten Pasta\nSelbstgemachter Pasta Vorrat für Zuhause\nRezeptheft zum Mitnehmen\nkleines Geschenk\nRaviola Leihschürze\n\n 
URL:https://hausfuenf.at/event/melker-fruehling-pasta-workshop/
LOCATION:HAUS FÜNF\, Sterngasse 5\, Melk\, 3390
CATEGORIES:Workshop
ATTACH;FMTTYPE=image/jpeg:https://hausfuenf.at/wp-content/uploads/2026/04/Melker-Fruehling-Workshop-Haus-5.jpg
END:VEVENT
BEGIN:VEVENT
DTSTART;TZID=UTC:20260521T180000
DTEND;TZID=UTC:20260521T230000
DTSTAMP:20260420T134620
CREATED:20260401T091356Z
LAST-MODIFIED:20260401T091356Z
UID:2981-1779386400-1779404400@hausfuenf.at
SUMMARY:Die Tafel des Königs – fliegendes Bankett
DESCRIPTION:im Stile der französischen Barockzeit \nEin opulentes Genuss Erlebnis im Sill der französischen Barockzeit live zubereitet\, serviert als fliegendes Bankett mit großartigem Wein und Showelementen. \nSEHR LIMITIERTE PLÄTZE \n📆 Datum: Donnerstag\, 21. Mai 2026 \n🕓 ab 18:00 Uhr \n📍 HAUS FÜNF – Sterngasse\, Melk \n🎟️ € 149\,00 mit Weinbegleitung \n🎟️ € 109\,00 ohne Weinbegleitung
URL:https://hausfuenf.at/event/die-tafel-des-koenigs-fliegendes-bankett/
LOCATION:HAUS FÜNF\, Sterngasse 5\, Melk\, 3390
CATEGORIES:Workshop
ATTACH;FMTTYPE=image/jpeg:https://hausfuenf.at/wp-content/uploads/2026/04/BarockesDinner.jpeg
END:VEVENT
END:VCALENDAR